BEGIN:VCALENDAR
VERSION:2.0
PRODID:-//Renny - ECPv6.2.3.2//NONSGML v1.0//EN
CALSCALE:GREGORIAN
METHOD:PUBLISH
X-WR-CALNAME:Renny
X-ORIGINAL-URL:https://www.renny.club
X-WR-CALDESC:Eventi per Renny
REFRESH-INTERVAL;VALUE=DURATION:PT1H
X-Robots-Tag:noindex
X-PUBLISHED-TTL:PT1H
BEGIN:VTIMEZONE
TZID:Europe/Rome
BEGIN:DAYLIGHT
TZOFFSETFROM:+0100
TZOFFSETTO:+0200
TZNAME:CEST
DTSTART:20210328T010000
END:DAYLIGHT
BEGIN:STANDARD
TZOFFSETFROM:+0200
TZOFFSETTO:+0100
TZNAME:CET
DTSTART:20211031T010000
END:STANDARD
END:VTIMEZONE
BEGIN:VEVENT
DTSTART;TZID=Europe/Rome:20210528T193000
DTEND;TZID=Europe/Rome:20210528T213000
DTSTAMP:20260421T194511
CREATED:20210524T182427Z
LAST-MODIFIED:20210524T190757Z
UID:13972-1622230200-1622237400@www.renny.club
SUMMARY:QuattroPerQuattro Improvvisazione
DESCRIPTION:La banda di Sushi torna con uno spettacolo che sono 4 spettacoli in uno!!!\nQuattro mini format per 4 indicazioni del pubblico a fare da colonna portante delle improvvisazioni.\nNon perdetevi questa prima assoluta al Renny! Ci sarai?\nPrenotati QUI\n*Ingresso solo su prenotazione\nDon’t worry\, be Happy! And keep on smiling!\n#civediamoalrenny #rennysummertime
URL:https://www.renny.club/evento/quattroperquattro-improvvisazione/
LOCATION:Renny Firenze\, via Francesco Baracca 1\, Firenze\, Firenze\, 50127\, Italia
END:VEVENT
END:VCALENDAR