BEGIN:VCALENDAR
VERSION:2.0
PRODID:-//Renny - ECPv6.2.3.2//NONSGML v1.0//EN
CALSCALE:GREGORIAN
METHOD:PUBLISH
X-ORIGINAL-URL:https://www.renny.club
X-WR-CALDESC:Eventi per Renny
REFRESH-INTERVAL;VALUE=DURATION:PT1H
X-Robots-Tag:noindex
X-PUBLISHED-TTL:PT1H
BEGIN:VTIMEZONE
TZID:Europe/Rome
BEGIN:DAYLIGHT
TZOFFSETFROM:+0100
TZOFFSETTO:+0200
TZNAME:CEST
DTSTART:20210328T010000
END:DAYLIGHT
BEGIN:STANDARD
TZOFFSETFROM:+0200
TZOFFSETTO:+0100
TZNAME:CET
DTSTART:20211031T010000
END:STANDARD
END:VTIMEZONE
BEGIN:VEVENT
DTSTART;TZID=Europe/Rome:20210618T200000
DTEND;TZID=Europe/Rome:20210618T220000
DTSTAMP:20260421T182809
CREATED:20210618T091332Z
LAST-MODIFIED:20210618T091414Z
UID:14068-1624046400-1624053600@www.renny.club
SUMMARY:SUSHI @ Renny SummerTime
DESCRIPTION:Torna Sushi!!!\nal Renny\, apertura giardino ore 20 per le polibibite più buone dell’estate e poi alle 21 spettacolo.\nbiglietti qui: https://eu.jotform.com/211203363508344\nSushi\, cruda improvvisazione su un letto di … riso.\nUna serie di storie concatenate tra loro ispirate dalle indicazioni del pubblico. un solo obiettivo … il divertimento!\n\n\n*Ingresso su prenotazione\nDon’t worry\, be Happy! And keep on smiling!\n#civediamoalrenny #rennysummertime
URL:https://www.renny.club/evento/sushi-renny-summertime/
LOCATION:Renny Firenze\, via Francesco Baracca 1\, Firenze\, Firenze\, 50127\, Italia
END:VEVENT
END:VCALENDAR