BEGIN:VCALENDAR
VERSION:2.0
PRODID:-//Renny - ECPv6.2.3.2//NONSGML v1.0//EN
CALSCALE:GREGORIAN
METHOD:PUBLISH
X-ORIGINAL-URL:https://www.renny.club
X-WR-CALDESC:Eventi per Renny
REFRESH-INTERVAL;VALUE=DURATION:PT1H
X-Robots-Tag:noindex
X-PUBLISHED-TTL:PT1H
BEGIN:VTIMEZONE
TZID:Europe/Rome
BEGIN:DAYLIGHT
TZOFFSETFROM:+0100
TZOFFSETTO:+0200
TZNAME:CEST
DTSTART:20240331T010000
END:DAYLIGHT
BEGIN:STANDARD
TZOFFSETFROM:+0200
TZOFFSETTO:+0100
TZNAME:CET
DTSTART:20241027T010000
END:STANDARD
END:VTIMEZONE
BEGIN:VEVENT
DTSTART;TZID=Europe/Rome:20240113T211500
DTEND;TZID=Europe/Rome:20240114T030000
DTSTAMP:20260421T111129
CREATED:20230827T191246Z
LAST-MODIFIED:20240102T003859Z
UID:17714-1705180500-1705201200@www.renny.club
SUMMARY:HOT SWING CLUB - by Tuballoswing
DESCRIPTION:ⒽⓄⓉ▬ⓈⓌⒾⓃⒼ▬ⒻⒾⓇⒺⓃⓏⒺ\nTorna la stagione fredda e ogni secondo Sabato del mese Renny diventa HOT!\nHot Swing Club\, il primo grande evento Swing arrivato a Firenze quando iniziava a riaffiorare il Boogie Woogie e arrivava per la prima volta il Lindy Hop.\nUn evento che voleva e che vuole unire tutti i ballerini della città e non solo\nUn evento che spazia dagli anni 20 agli anni 50\, con una sala dedicata a più generi musicali.\nLive Music\, grandi ospiti\, performance\, una sala dedicata ai Lindy Hoppers\, una per gli amanti degli anni 50.\nOgni appuntamento sorprese diverse tra postazioni trucco e parrucco\, barbieri\, vintage market\, maghi\, cartomanti\, venditori di alcool clandestino e personaggi che per pochi cent vi lucideranno le scarpe o cercheranno di vendervi fiammiferi rievocando la più autentica atmosfera della Swing Era.\n\nNOVITA 23/24\n\nOgni appuntamento avrà un sotto tema specifico\n\n❖SABATO 13 GENNAIO 2024❖\n“GANGSTER” Edition\nDRESS CODE RIGOROSO molto elegante anni 20s GANGSTER\n\n✦ ✦ ✦ ✦ ✦ ✦ ✦ ✦ ✦ ✦ ✦ ✦ ✦ ✦ ✦\nLINE UP\nLIVE:\nHot Gravel Eskimos (MI)\nDirettore Musicale: Maestro Mauro Porro\nDJs:\nMr Rhythm (TO)\nDJ Houserockin’ Chris (TO)\nMC:\nGiuà!\nBARBER SHOP:\nHAIR STUDIO UOMO DONNA\, via La Marmora 13r Firenze\n\nSORPRESE TBA\n✦ ✦ ✦ ✦ ✦ ✦ ✦ ✦ ✦ ✦ ✦ ✦ ✦ ✦ ✦\nProgramma:\n21.59 – Apertura con dj set\n22.45 – Live band\n23.30 – Outfit contest\n23.45 – Performance\n23.59 – Live band\n01.00 – Performance\n03.00 – Chiusura\n✦ ✦ ✦ ✦ ✦ ✦ ✦ ✦ ✦ ✦ ✦ ✦ ✦ ✦ ✦\nIngresso riservato ai soci Renny/Tuballoswing/CSI 2023\nPrenotazione consigliata e conveniente su\nhttps://form.jotform.com/tuballoswing/hot-swing-club
URL:https://www.renny.club/evento/hot-swing-club-3-2024-01-13/
LOCATION:Renny Firenze\, via Francesco Baracca 1\, Firenze\, Firenze\, 50127\, Italia
ATTACH;FMTTYPE=image/jpeg:https://www.renny.club/wp-content/uploads/2023/08/hsc-gangster-gennaio24.jpg
END:VEVENT
END:VCALENDAR