BEGIN:VCALENDAR
VERSION:2.0
PRODID:-//Renny - ECPv6.2.3.2//NONSGML v1.0//EN
CALSCALE:GREGORIAN
METHOD:PUBLISH
X-WR-CALNAME:Renny
X-ORIGINAL-URL:https://www.renny.club
X-WR-CALDESC:Eventi per Renny
REFRESH-INTERVAL;VALUE=DURATION:PT1H
X-Robots-Tag:noindex
X-PUBLISHED-TTL:PT1H
BEGIN:VTIMEZONE
TZID:Europe/Rome
BEGIN:DAYLIGHT
TZOFFSETFROM:+0100
TZOFFSETTO:+0200
TZNAME:CEST
DTSTART:20250330T010000
END:DAYLIGHT
BEGIN:STANDARD
TZOFFSETFROM:+0200
TZOFFSETTO:+0100
TZNAME:CET
DTSTART:20251026T010000
END:STANDARD
END:VTIMEZONE
BEGIN:VEVENT
DTSTART;TZID=Europe/Rome:20250223T153000
DTEND;TZID=Europe/Rome:20250223T173000
DTSTAMP:20260420T110834
CREATED:20250212T161716Z
LAST-MODIFIED:20250212T161716Z
UID:20351-1740324600-1740331800@www.renny.club
SUMMARY:5 Ritmi
DESCRIPTION:
URL:https://www.renny.club/evento/5-ritmi-2/
LOCATION:Renny Firenze\, via Francesco Baracca 1\, Firenze\, Firenze\, 50127\, Italia
END:VEVENT
END:VCALENDAR