BEGIN:VCALENDAR
VERSION:2.0
PRODID:-//Renny - ECPv6.2.3.2//NONSGML v1.0//EN
CALSCALE:GREGORIAN
METHOD:PUBLISH
X-WR-CALNAME:Renny
X-ORIGINAL-URL:https://www.renny.club
X-WR-CALDESC:Eventi per Renny
REFRESH-INTERVAL;VALUE=DURATION:PT1H
X-Robots-Tag:noindex
X-PUBLISHED-TTL:PT1H
BEGIN:VTIMEZONE
TZID:Europe/Rome
BEGIN:DAYLIGHT
TZOFFSETFROM:+0100
TZOFFSETTO:+0200
TZNAME:CEST
DTSTART:20250330T010000
END:DAYLIGHT
BEGIN:STANDARD
TZOFFSETFROM:+0200
TZOFFSETTO:+0100
TZNAME:CET
DTSTART:20251026T010000
END:STANDARD
END:VTIMEZONE
BEGIN:VEVENT
DTSTART;TZID=Europe/Rome:20250321T153000
DTEND;TZID=Europe/Rome:20250430T223000
DTSTAMP:20260419T145203
CREATED:20250227T170658Z
LAST-MODIFIED:20250227T171201Z
UID:20507-1742571000-1746052200@www.renny.club
SUMMARY:Yoshi Mari-mostra temporanea
DESCRIPTION:A cura di Yoshi Mari\n\n15:30-22:30 dal Lunedì al Venerdì\n\nIngresso Libero
URL:https://www.renny.club/evento/yoshi-mari-mostra-temporanea/
LOCATION:Renny Firenze\, via Francesco Baracca 1\, Firenze\, Firenze\, 50127\, Italia
ATTACH;FMTTYPE=image/jpeg:https://www.renny.club/wp-content/uploads/2025/02/Yoshi-ritratto-BN-300x300-1.jpg
END:VEVENT
BEGIN:VEVENT
DTSTART;TZID=Europe/Rome:20250323T163000
DTEND;TZID=Europe/Rome:20250323T180000
DTSTAMP:20260419T145203
CREATED:20250212T164414Z
LAST-MODIFIED:20250309T133702Z
UID:20363-1742747400-1742752800@www.renny.club
SUMMARY:Tè e Monologhi
DESCRIPTION:Immaginati un pomeriggio in un locale dalle atmosfere retro’ a gustare te pregiato e biscotti godendoti i monologhi più belli del cinema e teatro… info e prenotazioni: info@monologocheemozione.it 3203165883\nIngresso 10 Euro inclusa consumazione.
URL:https://www.renny.club/evento/te-e-monologhi-3/
LOCATION:Renny Firenze\, via Francesco Baracca 1\, Firenze\, Firenze\, 50127\, Italia
ATTACH;FMTTYPE=image/jpeg:https://www.renny.club/wp-content/uploads/2023/02/Pinzauti.jpg
END:VEVENT
END:VCALENDAR