BEGIN:VCALENDAR
VERSION:2.0
PRODID:-//Renny - ECPv6.2.3.2//NONSGML v1.0//EN
CALSCALE:GREGORIAN
METHOD:PUBLISH
X-ORIGINAL-URL:https://www.renny.club
X-WR-CALDESC:Eventi per Renny
REFRESH-INTERVAL;VALUE=DURATION:PT1H
X-Robots-Tag:noindex
X-PUBLISHED-TTL:PT1H
BEGIN:VTIMEZONE
TZID:Europe/Rome
BEGIN:DAYLIGHT
TZOFFSETFROM:+0100
TZOFFSETTO:+0200
TZNAME:CEST
DTSTART:20210328T010000
END:DAYLIGHT
BEGIN:STANDARD
TZOFFSETFROM:+0200
TZOFFSETTO:+0100
TZNAME:CET
DTSTART:20211031T010000
END:STANDARD
END:VTIMEZONE
BEGIN:VEVENT
DTSTART;TZID=Europe/Rome:20210701T080000
DTEND;TZID=Europe/Rome:20210701T170000
DTSTAMP:20260423T124040
CREATED:20210701T161626Z
LAST-MODIFIED:20210701T161626Z
UID:14139-1625126400-1625158800@www.renny.club
SUMMARY:ViaBaraccaN1
DESCRIPTION:“Il salotto sotto le stelle fatto di musica\, aperto ad amici e note\, storie e sorrisi.” Via dei matti n°0? No\, ViaBaraccaN°1! Un appuntamento domenicale\, diretto dal maestro Fabrizio Mocata\, per parlare di musica e di tutto ciò che è legato a essa\, con numerosi intermezzi musicali e un argomento sempre diverso.\n\nIn questo viaggio musicale il Maestro MOCATA in: “Jazz e Contaminazioni”\nCi sarai?\n\nPrenotati \n*Ingresso su prenotazione\nDon’t worry\, be Happy! And keep on smiling!\n#civediamoalrenny #rennysummertime
URL:https://www.renny.club/evento/viabaraccan1-7/
LOCATION:Renny Firenze\, via Francesco Baracca 1\, Firenze\, Firenze\, 50127\, Italia
END:VEVENT
BEGIN:VEVENT
DTSTART;TZID=Europe/Rome:20210702T200000
DTEND;TZID=Europe/Rome:20210702T233000
DTSTAMP:20260423T124040
CREATED:20210701T162104Z
LAST-MODIFIED:20210701T162122Z
UID:14141-1625256000-1625268600@www.renny.club
SUMMARY:Notti Magiche
DESCRIPTION:Europei di calcio in diretta nel maxischermo accompagnati da ottime polibibite o buona birra italiana…\n\n 
URL:https://www.renny.club/evento/notti-magiche/2021-07-02/
LOCATION:Renny Firenze\, via Francesco Baracca 1\, Firenze\, Firenze\, 50127\, Italia
END:VEVENT
BEGIN:VEVENT
DTSTART;TZID=Europe/Rome:20210704T190000
DTEND;TZID=Europe/Rome:20210704T230000
DTSTAMP:20260423T124040
CREATED:20210705T132510Z
LAST-MODIFIED:20210705T132510Z
UID:14153-1625425200-1625439600@www.renny.club
SUMMARY:Esposizione di bici\, bici a motore e moto d'epoca
DESCRIPTION:Renny per dieci giorni diventa uno spazio espositivo di bici\, bici a motore\, e moto d’epoca!\nUna sala interamente allestita per immergersi nelle atmosfere retrò\, non solo osservando pezzi unici ma anche provando alcune rarità storiche!\nNon mancheranno curiosità e aneddoti legate al mondo a due ruote raccontate dal collezionista appassionato Vincenzo Tacconi.\n\n*Apertura dalla Domenica al Venerdi dalle 19.00 alle 23.00\n**Ingresso gratuito
URL:https://www.renny.club/evento/esposizione-di-bici-bici-a-motore-e-moto-depoca/2021-07-04/
LOCATION:Renny Firenze\, via Francesco Baracca 1\, Firenze\, Firenze\, 50127\, Italia
END:VEVENT
BEGIN:VEVENT
DTSTART;TZID=Europe/Rome:20210705T190000
DTEND;TZID=Europe/Rome:20210705T235900
DTSTAMP:20260423T124040
CREATED:20210701T162417Z
LAST-MODIFIED:20210701T162417Z
UID:14147-1625511600-1625529540@www.renny.club
SUMMARY:Profumo di Tango
DESCRIPTION:PROFUMO DI TANGO\nL’evento è gratuito\, solo su prenotazione fino ad esaurimento posti.\nL’evento si svolgerà anche in caso di pioggia nel rispetto delle normative anti-covid regionali.\n\n“Coltivate sempre pensieri positivi\, l’entusiasmo non può fiorire in un terreno pieno di paura.” Napoleon Hill\n\nCon questo ottimismo\, ritorniamo al tango\, ricostruiamo la nostra passione nel migliore dei modi grazie a due grandi artisti che ritornano a Firenze dopo 8 anni.\nSponsor ed esposizione scarpe MADAME PIVOT\n\nCos’è PROFUMO DI TANGO?\nProfumo di Tango è un nuovo punto d’incontro e svago per tangheri e non.\nTutti i lunedì sera\, dopo un weekend di mare e un lunedì di lavoro\, ci rilasseremo in un lounge Bar dove poter sorseggiare i nuovi cocktail estivi di Gimmo\, conoscere nuovi amici e ascoltare buona musica nella nuova fantastica terrazza del Renny.\n\nSi può ballare? Per adesso no\, ma possiamo studiare e praticare\n– Ingresso Gratuito\n– Consumazione alcolica consigliate da Gimmo\n– Possibilità di portare cibo da asporto e consumarlo nei tavoli del Renny\n\nCONTRIBUTO a persona\nLezione:\n€20 una lezione\n€50 tre lezioni\n€100 una privata\nPRENOTAZIONI\nCLICCA QUI\nhttps://forms.gle/wYQU8PE7bb2ybnaB9
URL:https://www.renny.club/evento/profumo-di-tango/2021-07-05/
LOCATION:Renny Firenze\, via Francesco Baracca 1\, Firenze\, Firenze\, 50127\, Italia
END:VEVENT
BEGIN:VEVENT
DTSTART;TZID=Europe/Rome:20210707T220000
DTEND;TZID=Europe/Rome:20210708T003000
DTSTAMP:20260423T124040
CREATED:20210701T160320Z
LAST-MODIFIED:20210713T100148Z
UID:14083-1625695200-1625704200@www.renny.club
SUMMARY:La Social del Mercoledi
DESCRIPTION:“North River Bar\, un piccolo locale a Tribeca\, aveva iniziato a fare serate di ballo il mercoledì. Questo stravagante posticino e il Cat Club erano le uniche due serate di ballo fisse in città a quei tempi\, e noi ci affollavamo tutti lì\, sollevati e felici di poter avere la nostra dose di swing infrasettimanale.”\nCynthia R. Millman”-Franky Manning Ambasciatore del Lindy Hop\n\nDopo un anno di attesa torna il consueto e imperdibile Mercoledì sera travestito da Sabato sera.\nL’appuntamento storico infrasettimanale atteso da tutti i ballerini di Swing in città.\nUn appuntamento per spezzare la settimana swingando e socializzando\nTanta musica\, giochi\, gare\, e inziative a cura del Team Tuballo!\n\nA condire l’atmosfera le nuove polibibite futuriste di Gimmo\, nuove esperienze sensoriali tutte da provare!\n* \n\n\n#civediamoalrenny #rennysummertime #swingcommunity #swingfirenze
URL:https://www.renny.club/evento/la-social-del-mercoledi/2021-07-07/
LOCATION:Renny Firenze\, via Francesco Baracca 1\, Firenze\, Firenze\, 50127\, Italia
END:VEVENT
BEGIN:VEVENT
DTSTART;TZID=Europe/Rome:20210709T210000
DTEND;TZID=Europe/Rome:20210709T230000
DTSTAMP:20260423T124040
CREATED:20210701T160916Z
LAST-MODIFIED:20210722T102704Z
UID:14088-1625864400-1625871600@www.renny.club
SUMMARY:Improvvisazione Teatrale
DESCRIPTION:Al Renny\, spettacoli di improvvisazione teatrale a cura di AREAMISTA\n\nApertura giardino ore 20.00 per le polibibite più buone dell’estate\nInizio spettacolo ore 21.00\nPrenotazioni qui: https://eu.jotform.com/211203363508344\n\nUna serie di storie concatenate tra loro ispirate dalle indicazioni del pubblico.\nUn solo obiettivo … il divertimento!\n\n\n*Ingresso su prenotazione\nDon’t worry\, be Happy! And keep on smiling!\n#civediamoalrenny #rennysummertime
URL:https://www.renny.club/evento/improvvisazione-teatrale/2021-07-09/
LOCATION:Renny Firenze\, via Francesco Baracca 1\, Firenze\, Firenze\, 50127\, Italia
END:VEVENT
BEGIN:VEVENT
DTSTART;TZID=Europe/Rome:20210718T200000
DTEND;TZID=Europe/Rome:20210718T230000
DTSTAMP:20260423T124040
CREATED:20210701T161523Z
LAST-MODIFIED:20210701T161523Z
UID:14137-1626638400-1626649200@www.renny.club
SUMMARY:ViaBaraccaN1
DESCRIPTION:“Il salotto sotto le stelle fatto di musica\, aperto ad amici e note\, storie e sorrisi.” Via dei matti n°0? No\, ViaBaraccaN°1! Un appuntamento domenicale\, diretto dal maestro Fabrizio Mocata\, per parlare di musica e di tutto ciò che è legato a essa\, con numerosi intermezzi musicali e un argomento sempre diverso.\n\nIn questo viaggio musicale: “Birardi y la Contrabanda! Dalle Cure a Cuba”\nCi sarai?\n\nPrenotati \n*Ingresso solo su prenotazione\nDon’t worry\, be Happy! And keep on smiling!\n#civediamoalrenny #rennysummertime
URL:https://www.renny.club/evento/viabaraccan1-6/
LOCATION:Renny Firenze\, via Francesco Baracca 1\, Firenze\, Firenze\, 50127\, Italia
END:VEVENT
BEGIN:VEVENT
DTSTART;TZID=Europe/Rome:20210725T213000
DTEND;TZID=Europe/Rome:20210725T233000
DTSTAMP:20260423T124040
CREATED:20210722T102103Z
LAST-MODIFIED:20210722T102103Z
UID:14189-1627248600-1627255800@www.renny.club
SUMMARY:JAM SESSION
DESCRIPTION:🎹🎺🎷 Domenica ore 21.30\n– “ViaBaraccaN1” versione JAM SESSION –\ncon musicisti e artisti che\, senza programmazione\, ma spinti dalla propria improvvisazione daranno vita a performance live uniche e irripetibili!\n\nMusicisti:\nDaniele Cianferoni: drums\nFrancesco Cangi: Tbone\nLeonardo Baggiani: bass\nLorenzo Bagnoli: Guitar\n👉ingresso gratuito
URL:https://www.renny.club/evento/jam-session/
LOCATION:Renny Firenze\, via Francesco Baracca 1\, Firenze\, Firenze\, 50127\, Italia
END:VEVENT
BEGIN:VEVENT
DTSTART;TZID=Europe/Rome:20210731T213000
DTEND;TZID=Europe/Rome:20210731T235900
DTSTAMP:20260423T124040
CREATED:20210722T101917Z
LAST-MODIFIED:20210722T101917Z
UID:14187-1627767000-1627775940@www.renny.club
SUMMARY:Final Swing Party
DESCRIPTION:Al Renny una grande festa Swing prima della pausa estiva di Agosto!\nLIVE BAND \n“ANDREA VINCENTI SWINGTET”\nCon un repertorio composto da brani della tradizione Swing italiana e con uno uno sguardo oltreoceano rivolto alle Big Bang della “Swing Era”\, alternando atmosfere eleganti e raffinate\, ideali per conversare sorseggiando un drink\, a momenti più ritmati e ballabili\, arrivando al cuore del pubblico di tutte le età\nSPECIAL GUEST\n“THE COLLECTIVE SWING CREW”\nMultiforme\, eclettico ed in costante evoluzione. Nasce nel periodo difficile del lockdown con un progetto video a distanza che rappresenta il punto di partenza di questo collettivo unico in Italia per il suo genere.\nBallerini:\nValeria Bonfanti\nMatteo Capizzi\nMirko Cicciari\nKaren Fantasia\nGiulia Fantini\nLester Ian Philip\nNicole Pipino\nGiada Rìgoli\nIlaria Suss\nPer la prima volta di fronte ad un pubblico non virtuale: “IT DON’T MEAN A THING”.\nUna coreografia che vuole volutamente porre l’attenzione sui significati di partecipazione ed emozione; nulla ha senso se non viene abitato da un sentimento\, un ricordo\, un’idea. Ogni azione è vacua senza l’emozione spontanea e vera che ognuno può esprimere.\n\n*Ingresso con prenotazione\n Prenota QUI \n**Donazione volontaria all’ingresso\n***Tutte le attività avvengono nel rispetto delle disposizioni anti contagio in vigore
URL:https://www.renny.club/evento/final-swing-party/
LOCATION:Renny Firenze\, via Francesco Baracca 1\, Firenze\, Firenze\, 50127\, Italia
END:VEVENT
END:VCALENDAR