BEGIN:VCALENDAR
VERSION:2.0
PRODID:-//Renny - ECPv6.2.3.2//NONSGML v1.0//EN
CALSCALE:GREGORIAN
METHOD:PUBLISH
X-ORIGINAL-URL:https://www.renny.club
X-WR-CALDESC:Eventi per Renny
REFRESH-INTERVAL;VALUE=DURATION:PT1H
X-Robots-Tag:noindex
X-PUBLISHED-TTL:PT1H
BEGIN:VTIMEZONE
TZID:Europe/Rome
BEGIN:DAYLIGHT
TZOFFSETFROM:+0100
TZOFFSETTO:+0200
TZNAME:CEST
DTSTART:20210328T010000
END:DAYLIGHT
BEGIN:STANDARD
TZOFFSETFROM:+0200
TZOFFSETTO:+0100
TZNAME:CET
DTSTART:20211031T010000
END:STANDARD
END:VTIMEZONE
BEGIN:VEVENT
DTSTART;TZID=Europe/Rome:20210626T203000
DTEND;TZID=Europe/Rome:20210626T223000
DTSTAMP:20260419T210756
CREATED:20210603T114133Z
LAST-MODIFIED:20210603T114133Z
UID:14058-1624739400-1624746600@www.renny.club
SUMMARY:Swingabilly - Zarlingo Trio Live
DESCRIPTION:Una serata con musica live tutta da ballare!\nPrenotati \n*Ingresso solo su prenotazione\nDon’t worry\, be Happy! And keep on smiling!\n#civediamoalrenny #rennysummertime
URL:https://www.renny.club/evento/swingabilly-zarlingo-trio-live/
LOCATION:Renny Firenze\, via Francesco Baracca 1\, Firenze\, Firenze\, 50127\, Italia
END:VEVENT
BEGIN:VEVENT
DTSTART;TZID=Europe/Rome:20210627T193000
DTEND;TZID=Europe/Rome:20210627T210000
DTSTAMP:20260419T210756
CREATED:20210603T112802Z
LAST-MODIFIED:20210603T113258Z
UID:14015-1624822200-1624827600@www.renny.club
SUMMARY:ViaBaraccaN1
DESCRIPTION:“Il salotto sotto le stelle fatto di musica\, aperto ad amici e note\, storie e sorrisi.” Via dei matti n°0? No\, ViaBaraccaN°1! Un appuntamento domenicale\, diretto dal maestro Fabrizio Mocata\, per parlare di musica e di tutto ciò che è legato a essa\, con numerosi intermezzi musicali e un argomento sempre diverso.\n\nIn questo viaggio musicale: “Birardi y la Contrabanda! Dalle Cure a Cuba”\nCi sarai?\n\nPrenotati \n*Ingresso solo su prenotazione\nDon’t worry\, be Happy! And keep on smiling!\n#civediamoalrenny #rennysummertime
URL:https://www.renny.club/evento/viabaraccan1-5/
LOCATION:Renny Firenze\, via Francesco Baracca 1\, Firenze\, Firenze\, 50127\, Italia
END:VEVENT
END:VCALENDAR