BEGIN:VCALENDAR
VERSION:2.0
PRODID:-//Renny - ECPv6.2.3.2//NONSGML v1.0//EN
CALSCALE:GREGORIAN
METHOD:PUBLISH
X-ORIGINAL-URL:https://www.renny.club
X-WR-CALDESC:Eventi per Renny
REFRESH-INTERVAL;VALUE=DURATION:PT1H
X-Robots-Tag:noindex
X-PUBLISHED-TTL:PT1H
BEGIN:VTIMEZONE
TZID:Europe/Rome
BEGIN:DAYLIGHT
TZOFFSETFROM:+0100
TZOFFSETTO:+0200
TZNAME:CEST
DTSTART:20210328T010000
END:DAYLIGHT
BEGIN:STANDARD
TZOFFSETFROM:+0200
TZOFFSETTO:+0100
TZNAME:CET
DTSTART:20211031T010000
END:STANDARD
END:VTIMEZONE
BEGIN:VEVENT
DTSTART;TZID=Europe/Rome:20210731T213000
DTEND;TZID=Europe/Rome:20210731T235900
DTSTAMP:20260421T165224
CREATED:20210722T101917Z
LAST-MODIFIED:20210722T101917Z
UID:14187-1627767000-1627775940@www.renny.club
SUMMARY:Final Swing Party
DESCRIPTION:Al Renny una grande festa Swing prima della pausa estiva di Agosto!\nLIVE BAND \n“ANDREA VINCENTI SWINGTET”\nCon un repertorio composto da brani della tradizione Swing italiana e con uno uno sguardo oltreoceano rivolto alle Big Bang della “Swing Era”\, alternando atmosfere eleganti e raffinate\, ideali per conversare sorseggiando un drink\, a momenti più ritmati e ballabili\, arrivando al cuore del pubblico di tutte le età\nSPECIAL GUEST\n“THE COLLECTIVE SWING CREW”\nMultiforme\, eclettico ed in costante evoluzione. Nasce nel periodo difficile del lockdown con un progetto video a distanza che rappresenta il punto di partenza di questo collettivo unico in Italia per il suo genere.\nBallerini:\nValeria Bonfanti\nMatteo Capizzi\nMirko Cicciari\nKaren Fantasia\nGiulia Fantini\nLester Ian Philip\nNicole Pipino\nGiada Rìgoli\nIlaria Suss\nPer la prima volta di fronte ad un pubblico non virtuale: “IT DON’T MEAN A THING”.\nUna coreografia che vuole volutamente porre l’attenzione sui significati di partecipazione ed emozione; nulla ha senso se non viene abitato da un sentimento\, un ricordo\, un’idea. Ogni azione è vacua senza l’emozione spontanea e vera che ognuno può esprimere.\n\n*Ingresso con prenotazione\n Prenota QUI \n**Donazione volontaria all’ingresso\n***Tutte le attività avvengono nel rispetto delle disposizioni anti contagio in vigore
URL:https://www.renny.club/evento/final-swing-party/
LOCATION:Renny Firenze\, via Francesco Baracca 1\, Firenze\, Firenze\, 50127\, Italia
END:VEVENT
END:VCALENDAR