BEGIN:VCALENDAR
VERSION:2.0
PRODID:-//Renny - ECPv6.2.3.2//NONSGML v1.0//EN
CALSCALE:GREGORIAN
METHOD:PUBLISH
X-WR-CALNAME:Renny
X-ORIGINAL-URL:https://www.renny.club
X-WR-CALDESC:Eventi per Renny
REFRESH-INTERVAL;VALUE=DURATION:PT1H
X-Robots-Tag:noindex
X-PUBLISHED-TTL:PT1H
BEGIN:VTIMEZONE
TZID:Europe/Rome
BEGIN:DAYLIGHT
TZOFFSETFROM:+0100
TZOFFSETTO:+0200
TZNAME:CEST
DTSTART:20210328T010000
END:DAYLIGHT
BEGIN:STANDARD
TZOFFSETFROM:+0200
TZOFFSETTO:+0100
TZNAME:CET
DTSTART:20211031T010000
END:STANDARD
END:VTIMEZONE
BEGIN:VEVENT
DTSTART;TZID=Europe/Rome:20210905T213000
DTEND;TZID=Europe/Rome:20210905T233000
DTSTAMP:20260421T070221
CREATED:20210827T174432Z
LAST-MODIFIED:20210827T174501Z
UID:14215-1630877400-1630884600@www.renny.club
SUMMARY:GIIO & The Space Fauna
DESCRIPTION:Al RENNY SUMMERTIME ogni settimana ospiti speciali!\nE’ la volta del GIIO AND THE SPACE FAUNA!\nGiio and the Space Fauna è il nuovo progetto del cantautore Giio (Giovanni Mancini). L’uscita del disco d’esordio Songs for Vanishing Planets è prevista per Novembre 2021. I primi due singoli Ropes e Briefly Ever After sono usciti tra Aprile e Maggio. Il disco è un mix eclettico di pop\, rock\, blues e indie e le canzoni che lo compongono raccontano storie su tutti quei pianeti che scompaiono all’improvviso dalla nostra vita.\nGiovanni Mancini: voce\, chitarra\nAndrea Beninati: batteria\, synth\, violoncello\nCi sarai? Prenotati QUI\n\n**INGRESSO e Consumazioni solo per i soci\nNon sei tesserato? Puoi farlo comodamente online su \n#civediamoalrenny\n#rennysummertime
URL:https://www.renny.club/evento/giio-the-space-fauna/
LOCATION:Renny Firenze\, via Francesco Baracca 1\, Firenze\, Firenze\, 50127\, Italia
END:VEVENT
END:VCALENDAR