BEGIN:VCALENDAR
VERSION:2.0
PRODID:-//Renny - ECPv6.2.3.2//NONSGML v1.0//EN
CALSCALE:GREGORIAN
METHOD:PUBLISH
X-WR-CALNAME:Renny
X-ORIGINAL-URL:https://www.renny.club
X-WR-CALDESC:Eventi per Renny
REFRESH-INTERVAL;VALUE=DURATION:PT1H
X-Robots-Tag:noindex
X-PUBLISHED-TTL:PT1H
BEGIN:VTIMEZONE
TZID:Europe/Rome
BEGIN:DAYLIGHT
TZOFFSETFROM:+0100
TZOFFSETTO:+0200
TZNAME:CEST
DTSTART:20210328T010000
END:DAYLIGHT
BEGIN:STANDARD
TZOFFSETFROM:+0200
TZOFFSETTO:+0100
TZNAME:CET
DTSTART:20211031T010000
END:STANDARD
END:VTIMEZONE
BEGIN:VEVENT
DTSTART;TZID=Europe/Rome:20210913T200000
DTEND;TZID=Europe/Rome:20210913T233000
DTSTAMP:20260421T070228
CREATED:20210827T180238Z
LAST-MODIFIED:20210827T180238Z
UID:14232-1631563200-1631575800@www.renny.club
SUMMARY:Profumo di Tango
DESCRIPTION:PROFUMO DI TANGO a cura dell’associazione Pablo Tango Firenze\nL’evento è gratuito\, solo su prenotazione fino ad esaurimento posti. L’evento si svolgerà anche in caso di pioggia nel rispetto delle normative anti-covid regionali.\n\n“Coltivate sempre pensieri positivi\, l’entusiasmo non può fiorire in un terreno pieno di paura.” Napoleon Hill\n\nCon questo ottimismo\, ritorniamo al tango\, ricostruiamo la nostra passione nel migliore dei modi grazie a due grandi artisti che ritornano a Firenze dopo 8 anni.\nSponsor ed esposizione scarpe MADAME PIVOT\n\nCos’è PROFUMO DI TANGO? Profumo di Tango è un nuovo punto d’incontro e svago per tangheri e non. Tutti i lunedì sera\, dopo un weekend di mare e un lunedì di lavoro\, ci rilasseremo in un lounge Bar dove poter sorseggiare i nuovi cocktail estivi di Gimmo\, conoscere nuovi amici e ascoltare buona musica nella nuova fantastica terrazza del Renny.\nSi può ballare? Per adesso no\, ma possiamo studiare e praticare – Ingresso Gratuito – Consumazione alcolica consigliate da Gimmo – Possibilità di portare cibo da asporto e consumarlo nei tavoli del Renny\n\nCONTRIBUTO a persona Lezione: €20 una lezione €50 tre lezioni €100 una privata
URL:https://www.renny.club/evento/profumo-di-tango-2/2021-09-13/
LOCATION:Renny Firenze\, via Francesco Baracca 1\, Firenze\, Firenze\, 50127\, Italia
END:VEVENT
BEGIN:VEVENT
DTSTART;TZID=Europe/Rome:20210919T210000
DTEND;TZID=Europe/Rome:20210919T233000
DTSTAMP:20260421T070228
CREATED:20210827T180716Z
LAST-MODIFIED:20210827T180716Z
UID:14236-1632085200-1632094200@www.renny.club
SUMMARY:Il QUINTO ELEMENTO
DESCRIPTION:Al RENNY SUMMERTIME ogni settimana ospiti speciali!\n\nE’ la volta del QUINTO ELEMENTO!\nCinque voci senza strumenti. E tutte e cinque femminili. Una particolarità sonora felice che ha già fruttato la vittoria in un festival e un disco appena uscito. Introducing (Filibusta Records Goodfellas) è l’incisione a lunga durata che\, appunto\, introduce il Quinto Elemento.\n\nIl gruppo è formato da cinque cantanti:\nIrene Giuliani\, arrangiatrice dei brani\,\nMya Fracassini\,\nElisa Mini\,\nPaola Rovai\,\nStefania Scarinzi.\n\nCi sarai? Prenotati QUI \n**INGRESSO e Consumazioni solo per i soci\nNon sei tesserato? Puoi farlo comodamente online su \n#civediamoalrenny\n#rennysummertime
URL:https://www.renny.club/evento/il-quinto-elemento/
LOCATION:Renny Firenze\, via Francesco Baracca 1\, Firenze\, Firenze\, 50127\, Italia
END:VEVENT
END:VCALENDAR