BEGIN:VCALENDAR
VERSION:2.0
PRODID:-//Renny - ECPv6.2.3.2//NONSGML v1.0//EN
CALSCALE:GREGORIAN
METHOD:PUBLISH
X-ORIGINAL-URL:https://www.renny.club
X-WR-CALDESC:Eventi per Renny
REFRESH-INTERVAL;VALUE=DURATION:PT1H
X-Robots-Tag:noindex
X-PUBLISHED-TTL:PT1H
BEGIN:VTIMEZONE
TZID:Europe/Rome
BEGIN:DAYLIGHT
TZOFFSETFROM:+0100
TZOFFSETTO:+0200
TZNAME:CEST
DTSTART:20210328T010000
END:DAYLIGHT
BEGIN:STANDARD
TZOFFSETFROM:+0200
TZOFFSETTO:+0100
TZNAME:CET
DTSTART:20211031T010000
END:STANDARD
END:VTIMEZONE
BEGIN:VEVENT
DTSTART;TZID=Europe/Rome:20210922T200000
DTEND;TZID=Europe/Rome:20210922T233000
DTSTAMP:20260421T052152
CREATED:20210827T175914Z
LAST-MODIFIED:20210827T180018Z
UID:14225-1632340800-1632353400@www.renny.club
SUMMARY:Social Swing Night - @Tuballoswing
DESCRIPTION:“North River Bar\, un piccolo locale a Tribeca\, aveva iniziato a fare serate di ballo il mercoledì. Questo stravagante posticino e il Cat Club erano le uniche due serate di ballo fisse in città a quei tempi\, e noi ci affollavamo tutti lì\, sollevati e felici di poter avere la nostra dose di swing infrasettimanale.”\nCynthia R. Millman”-Franky Manning Ambasciatore del Lindy Hop\n\n\nTorna la Social “DisDancing”. L’appuntamento storico settimanale (ovvero il mercoledi) è confermato ma nel rispetto di tutte le norme vigenti. Potremo ascoltare buona musica\, dialogare\, praticare “Solo” o tra congiunti\, partecipare ad attività culturali\, cineforum\, giochi\, cabaret e iniziative varie da parte di tutta la comunità\n\n\nAd anticipare la serata in programma LEZIONI OPEN per rimettersi in moto dopo le vacanze estive in attesa della ripartenza dei corsi di ballo.\n\nA condire l’atmosfera le nuove polibibite futuriste di Gimmo\, nuove esperienze sensoriali tutte da provare!\n\n\nCi sarai? Prenotati QUI\n\n**INGRESSO e Consumazioni solo per i soci (con Green pass o certificato avente stessa validità)\nNon sei tesserato? Puoi farlo comodamente online su \n#civediamoalrenny\n#rennysummertime\n\n#swingcommunity\n#swingfirenze
URL:https://www.renny.club/evento/14225/2021-09-22/
LOCATION:Renny Firenze\, via Francesco Baracca 1\, Firenze\, Firenze\, 50127\, Italia
END:VEVENT
END:VCALENDAR