BEGIN:VCALENDAR
VERSION:2.0
PRODID:-//Renny - ECPv6.2.3.2//NONSGML v1.0//EN
CALSCALE:GREGORIAN
METHOD:PUBLISH
X-WR-CALNAME:Renny
X-ORIGINAL-URL:https://www.renny.club
X-WR-CALDESC:Eventi per Renny
REFRESH-INTERVAL;VALUE=DURATION:PT1H
X-Robots-Tag:noindex
X-PUBLISHED-TTL:PT1H
BEGIN:VTIMEZONE
TZID:Europe/Rome
BEGIN:DAYLIGHT
TZOFFSETFROM:+0100
TZOFFSETTO:+0200
TZNAME:CEST
DTSTART:20240331T010000
END:DAYLIGHT
BEGIN:STANDARD
TZOFFSETFROM:+0200
TZOFFSETTO:+0100
TZNAME:CET
DTSTART:20241027T010000
END:STANDARD
END:VTIMEZONE
BEGIN:VEVENT
DTSTART;TZID=Europe/Rome:20240413T220000
DTEND;TZID=Europe/Rome:20240414T030000
DTSTAMP:20260419T200738
CREATED:20230827T191246Z
LAST-MODIFIED:20240401T102940Z
UID:18389-1713045600-1713063600@www.renny.club
SUMMARY:HOT SWING CLUB - by Tuballoswing
DESCRIPTION:ⒽⓄⓉ▬ⓈⓌⒾⓃⒼ▬ⒻⒾⓇⒺⓃⓏⒺ\n\n𝟏𝟑 𝐀𝐏𝐑𝐈𝐋𝐄 𝟐𝟎𝟐𝟒 – Ultimo\, bollente 𝘏𝘰𝘵 𝘚𝘸𝘪𝘯𝘨 𝘊𝘭𝘶𝘣 della stagione in una 𝐥𝐨𝐜𝐚𝐭𝐢𝐨𝐧 𝐩𝐚𝐳𝐳𝐞𝐬𝐜𝐚: la Palazzina Reale di Firenze Santa Maria Novella!\nSarà un imperdibile evento Swing\, con degli sponsor eccezionali come 𝘋𝘪𝘴𝘵𝘪𝘭𝘭𝘦𝘳𝘪𝘢 𝑁𝑎𝑟𝑑𝑖𝑛𝑖\, 𝘚𝘵𝘪𝘭𝘦 𝑀𝑖𝑙𝑙𝑒𝑙𝑖𝑟𝑒\, 𝐶𝑟𝑜𝑐𝑒 𝑅𝑜𝑠𝑠𝑎 𝘦 𝑂𝑚𝑖𝑘𝑟𝑜𝑛!⁣⁣\n\n\n𝐋𝐚 𝐏𝐚𝐥𝐚𝐳𝐳𝐢𝐧𝐚 𝐑𝐞𝐚𝐥𝐞 è un capolavoro dello stile razionalista italiano. Inaugurato nel 1935\, quasi 90 anni dopo diventerà la nostra fiammeggiante sala da ballo! ⁣⁣⁣⁣\nBalleremo sul pavimento in legno originale – a prova di swing\, garantiamo noi  – circondati da mosaici dorati e arredi d’epoca!⁣⁣\n⁣⁣La Palazzina è situata nel complesso della stazione di Santa Maria Novella\, 𝐥𝐨𝐜𝐚𝐭𝐢𝐨𝐧 𝐜𝐨𝐦𝐨𝐝𝐚 per i locali ma sopratutto per chi viene da altre città – e sì\, saranno tra noi ballerini tutta la penisola!⁣⁣\n\n𝐄 𝐢𝐥 𝐝𝐫𝐞𝐬𝐬 𝐜𝐨𝐝𝐞? VINTAGE ELEGANTE. Lo stile che caratterizza gli anni della Swing Era\, l’eleganza che contraddistingue un Hot Swing Club\, ma questa volta con ancora più sfarzo!\n\n——————————————–⁣⁣\n– 𝐋𝐈𝐕𝐄 𝐁𝐀𝐍𝐃: The Rug Cutters (MI)⁣⁣\n⁣⁣⁣⁣⁣⁣⁣- 𝐃𝐈𝐑𝐄𝐓𝐓𝐎𝐑𝐄 𝐌𝐔𝐒𝐈𝐂𝐀𝐋𝐄: Mauro Porro\n⁣⁣⁣⁣⁣⁣⁣- 𝐃𝐉 𝐒𝐄𝐓𝐒: Dj Andy Fisher (MI) & Dj Lindysciplinato (RN)⁣⁣\n⁣⁣⁣⁣⁣⁣⁣- 𝐎𝐔𝐓𝐅𝐈𝐓 𝐂𝐎𝐍𝐓𝐄𝐒𝐓 con ricchi premi⁣⁣⁣⁣⁣ messi in palio dai nostri sponsor⁣⁣\n⁣⁣⁣⁣⁣⁣⁣- 𝐒𝐄𝐓 𝐅𝐎𝐓𝐎𝐆𝐑𝐀𝐅𝐈𝐂𝐎 con auto d’epoca⁣⁣⁣⁣ ed altre sorprese⁣⁣⁣\n⁣⁣⁣- 𝐕𝐈𝐍𝐓𝐀𝐆𝐄 𝐌𝐀𝐑𝐊𝐄𝐓 Stile Millelire⁣⁣\n⁣⁣- 𝐌𝐀𝐒𝐓𝐄𝐑 𝐎𝐅 𝐂𝐄𝐑𝐄𝐌𝐎𝐍𝐈𝐄𝐒 Giuà\n⁣⁣- Sorprese a tema \n⁣⁣⁣⁣⁣⁣⁣⁣⁣⁣——————————————–⁣⁣\nHot Swing Club è 𝙇𝘼 serata swing a Firenze\, con 27 edizioni all’attivo e record di oltre 400 partecipanti. Una 𝐦𝐚𝐜𝐜𝐡𝐢𝐧𝐚 𝐝𝐞𝐥 𝐭𝐞𝐦𝐩𝐨 che vi trasporta in una notte tipica della Swing Era. Per puristi del Lindy Hop\, amanti del Boogie Woogie\, ballerini di Solo Jazz\, Tap Dancer o chi semplicemente ama sfoggiare il suo armadio vintage anni 20-50.⁣⁣⁣⁣⁣⁣⁣⁣⁣⁣⁣\n\nPrenotazione con 25% di SCONTO SOLO IN PREVENDITA: https://form.jotform.com/tuballoswing/hot-swing-club⁣⁣⁣⁣⁣⁣⁣\nIngresso riservato ai soci Renny Club Firenze/Tuballoswing/CSI 2024⁣⁣⁣⁣⁣⁣⁣⁣⁣\n\n✦ ✦ ✦ ✦ ✦ ✦ ✦ ✦ ✦ ✦ ✦ ✦ ✦ ✦ ✦⁣⁣⁣⁣⁣⁣⁣⁣⁣\n⁣⁣⁣⁣⁣⁣⁣⁣⁣Programma:\n21.59 – Apertura con DJ set⁣⁣⁣⁣⁣⁣⁣⁣⁣\n22.45 – INIZIO CONCERTO⁣⁣⁣⁣⁣⁣⁣⁣⁣\n23.30 – Outfit contest ⁣⁣| Performance⁣⁣⁣⁣⁣⁣⁣\n23.59 – 2° PARTE CONCERTO⁣⁣⁣⁣⁣⁣⁣⁣⁣\n1:00 – DJ set⁣⁣⁣⁣⁣⁣⁣⁣⁣\n03.00 – Chiusura (?)
URL:https://www.renny.club/evento/hot-swing-club-3-2024-04-13/
LOCATION:Firenze
ATTACH;FMTTYPE=image/png:https://www.renny.club/wp-content/uploads/2023/08/logo-Hot-Swing-Club-1080.png
END:VEVENT
END:VCALENDAR