BEGIN:VCALENDAR
VERSION:2.0
PRODID:-//Renny - ECPv6.2.3.2//NONSGML v1.0//EN
CALSCALE:GREGORIAN
METHOD:PUBLISH
X-WR-CALNAME:Renny
X-ORIGINAL-URL:https://www.renny.club
X-WR-CALDESC:Eventi per Renny
REFRESH-INTERVAL;VALUE=DURATION:PT1H
X-Robots-Tag:noindex
X-PUBLISHED-TTL:PT1H
BEGIN:VTIMEZONE
TZID:Europe/Rome
BEGIN:DAYLIGHT
TZOFFSETFROM:+0100
TZOFFSETTO:+0200
TZNAME:CEST
DTSTART:20240331T010000
END:DAYLIGHT
BEGIN:STANDARD
TZOFFSETFROM:+0200
TZOFFSETTO:+0100
TZNAME:CET
DTSTART:20241027T010000
END:STANDARD
END:VTIMEZONE
BEGIN:VEVENT
DTSTART;TZID=Europe/Rome:20240424T220000
DTEND;TZID=Europe/Rome:20240424T235900
DTSTAMP:20260419T165823
CREATED:20230812T100703Z
LAST-MODIFIED:20230812T100703Z
UID:18616-1713996000-1714003140@www.renny.club
SUMMARY:Swing Social Dance - by Tuballoswing
DESCRIPTION:[vc_row pix_particles_check=””][vc_column][vc_column_text]📣Il consueto\, unico e imperdibile appuntamento Swing del Mercoledì a Firenze\n\nL’appuntamento storico atteso da tutti i ballerini di Swing in città\, un sabato travestito da infrasettimanale!\n\n🎵Un appuntamento per spezzare la settimana swingando e socializzando. Tanta musica\, giochi\, gare\, e inziative a cura del Team Tuballo!\n🍹🍸🥃A condire l’atmosfera le polibibite futuriste di Gimmo\, esperienze sensoriali tutte da provare!\n\n————————————-\n“North River Bar\, un piccolo locale a Tribeca\, aveva iniziato a fare serate di ballo il mercoledì. Questo stravagante posticino e il Cat Club erano le uniche due serate di ballo fisse in città a quei tempi\, e noi ci affollavamo tutti lì\, sollevati e felici di poter avere la nostra dose di swing infrasettimanale.”🤩\nCynthia R. Millman”-Frankie Manning Ambasciatore del Lindy Hop\n————————————-\n\n‼️NEWS‼️\nProgramma musicale:\n– Il 1° Mercoledì del mese saranno ospiti diversi Dj della scena Swing italiana\n– Il 2° Mercoledi del mese la consolle sarà del nostro Resident Dj\n– Il 3° Mercoledì del mese diggei set a cura del team insegnanti Tuballoswing che a ruotare si sfideranno con varietà e originalità\n– 4° Mercoledi del mese spazio ai Diggei Emergenti!\nVuoi uno stimolo per la tua cultura e ricerca musicale? sei appassionato di musica e vuoi sperimentare la tua dote da dj? Prova a tenere la pista piena di ballerini! Proponiti!!!\n\n*INGRESSO GRATUITO riservato agli studenti Tuballoswing con abbonamento attivo\n‼️‼️CONTRIBUTO DI 5eu per i non iscritti a Tuballoswing e Tessera Renny Club/CSI obbligatoria[/vc_column_text][/vc_column][/vc_row]
URL:https://www.renny.club/evento/swing-social-dance-by-tuballoswing/2024-04-24/
LOCATION:Renny Firenze\, via Francesco Baracca 1\, Firenze\, Firenze\, 50127\, Italia
ATTACH;FMTTYPE=image/jpeg:https://www.renny.club/wp-content/uploads/2022/09/swing-social.jpg
END:VEVENT
BEGIN:VEVENT
DTSTART;TZID=Europe/Rome:20240424T220000
DTEND;TZID=Europe/Rome:20240425T010000
DTSTAMP:20260419T165823
CREATED:20240401T103607Z
LAST-MODIFIED:20240401T103607Z
UID:18496-1713996000-1714006800@www.renny.club
SUMMARY:Social Swing Competition + Big Party
DESCRIPTION:Mercoledì 𝟐𝟒 𝐀𝐩𝐫𝐢𝐥𝐞 𝐭𝐨𝐫𝐧𝐚 𝐋𝐚 𝐒𝐨𝐜𝐢𝐚𝐥 𝐂𝐨𝐦𝐩𝐞𝐭𝐢𝐭𝐢𝐨𝐧!\nL’anno scorso avete amato questa serata di Mix & Match\, quindi la riproponiamo in una versione potenziata con 𝐁𝐈𝐆 𝐏𝐀𝐑𝐓𝐘 (è prefestivo!)\nUna competizione per ogni disciplina (𝐋𝐢𝐧𝐝𝐲 𝐇𝐨𝐩\, 𝐁𝐨𝐨𝐠𝐢𝐞 𝐖𝐨𝐨𝐠𝐢𝐞\, 𝐞 𝐒𝐨𝐥𝐨 𝐉𝐚𝐳𝐳) in cui mettersi in gioco senza tralasciare l’ironia e l’atmosfera familiare che caratterizza ogni Social Dance al Renny\n\nLe competizioni sono rivolte a 𝐭𝐮𝐭𝐭𝐢 𝐢 𝐥𝐢𝐯𝐞𝐥𝐥𝐢.\n\n𝐈𝐧 𝐠𝐢𝐮𝐫𝐢𝐚:\nGiulia Agostini (Lindy Hop in Florence)\nMarco Guglielmino (Swingin’Up)\nGiulia Fantini (Tuballoswing)\n\nPer partecipare è necessaria la 𝐫𝐞𝐠𝐢𝐬𝐭𝐫𝐚𝐳𝐢𝐨𝐧𝐞: https://form.jotform.com/tuballos…/social-competition-2024\nLa competizione è riservata ai tesserati Tuballoswing/renny/CSI\n\nContributo ingresso serata per non iscritti ai corsi Tuballoswing: 5€
URL:https://www.renny.club/evento/social-swing-competition-big-party/
LOCATION:Renny Firenze\, via Francesco Baracca 1\, Firenze\, Firenze\, 50127\, Italia
ATTACH;FMTTYPE=image/jpeg:https://www.renny.club/wp-content/uploads/2024/04/Social-competition2024.jpg
END:VEVENT
END:VCALENDAR