BEGIN:VCALENDAR
VERSION:2.0
PRODID:-//Renny - ECPv6.2.3.2//NONSGML v1.0//EN
CALSCALE:GREGORIAN
METHOD:PUBLISH
X-ORIGINAL-URL:https://www.renny.club
X-WR-CALDESC:Eventi per Renny
REFRESH-INTERVAL;VALUE=DURATION:PT1H
X-Robots-Tag:noindex
X-PUBLISHED-TTL:PT1H
BEGIN:VTIMEZONE
TZID:Europe/Rome
BEGIN:DAYLIGHT
TZOFFSETFROM:+0100
TZOFFSETTO:+0200
TZNAME:CEST
DTSTART:20240331T010000
END:DAYLIGHT
BEGIN:STANDARD
TZOFFSETFROM:+0200
TZOFFSETTO:+0100
TZNAME:CET
DTSTART:20241027T010000
END:STANDARD
END:VTIMEZONE
BEGIN:VEVENT
DTSTART;TZID=Europe/Rome:20240626T220000
DTEND;TZID=Europe/Rome:20240626T235900
DTSTAMP:20260421T031401
CREATED:20230812T100703Z
LAST-MODIFIED:20230812T100703Z
UID:18625-1719439200-1719446340@www.renny.club
SUMMARY:Swing Social Dance - by Tuballoswing
DESCRIPTION:[vc_row pix_particles_check=””][vc_column][vc_column_text]📣Il consueto\, unico e imperdibile appuntamento Swing del Mercoledì a Firenze\n\nL’appuntamento storico atteso da tutti i ballerini di Swing in città\, un sabato travestito da infrasettimanale!\n\n🎵Un appuntamento per spezzare la settimana swingando e socializzando. Tanta musica\, giochi\, gare\, e inziative a cura del Team Tuballo!\n🍹🍸🥃A condire l’atmosfera le polibibite futuriste di Gimmo\, esperienze sensoriali tutte da provare!\n\n————————————-\n“North River Bar\, un piccolo locale a Tribeca\, aveva iniziato a fare serate di ballo il mercoledì. Questo stravagante posticino e il Cat Club erano le uniche due serate di ballo fisse in città a quei tempi\, e noi ci affollavamo tutti lì\, sollevati e felici di poter avere la nostra dose di swing infrasettimanale.”🤩\nCynthia R. Millman”-Frankie Manning Ambasciatore del Lindy Hop\n————————————-\n\n‼️NEWS‼️\nProgramma musicale:\n– Il 1° Mercoledì del mese saranno ospiti diversi Dj della scena Swing italiana\n– Il 2° Mercoledi del mese la consolle sarà del nostro Resident Dj\n– Il 3° Mercoledì del mese diggei set a cura del team insegnanti Tuballoswing che a ruotare si sfideranno con varietà e originalità\n– 4° Mercoledi del mese spazio ai Diggei Emergenti!\nVuoi uno stimolo per la tua cultura e ricerca musicale? sei appassionato di musica e vuoi sperimentare la tua dote da dj? Prova a tenere la pista piena di ballerini! Proponiti!!!\n\n*INGRESSO GRATUITO riservato agli studenti Tuballoswing con abbonamento attivo\n‼️‼️CONTRIBUTO DI 5eu per i non iscritti a Tuballoswing e Tessera Renny Club/CSI obbligatoria[/vc_column_text][/vc_column][/vc_row]
URL:https://www.renny.club/evento/swing-social-dance-by-tuballoswing/2024-06-26/
LOCATION:Renny Firenze\, via Francesco Baracca 1\, Firenze\, Firenze\, 50127\, Italia
ATTACH;FMTTYPE=image/jpeg:https://www.renny.club/wp-content/uploads/2022/09/swing-social.jpg
END:VEVENT
BEGIN:VEVENT
DTSTART;TZID=Europe/Rome:20240629T150000
DTEND;TZID=Europe/Rome:20240630T233000
DTSTAMP:20260421T031401
CREATED:20240620T194111Z
LAST-MODIFIED:20240620T194111Z
UID:18820-1719673200-1719790200@www.renny.club
SUMMARY:Uno spettacolo di anno! By Tuballoswing
DESCRIPTION:Prenota il tuo posto per 𝐈𝐋 𝐆𝐑𝐀𝐍 𝐅𝐈𝐍𝐀𝐋𝐄 𝟐𝟎𝟐𝟒 di Tuballoswing ⁣⁣⁣⁣Un anno ricco di tanti bei momenti volge al termine e noi 𝐯𝐨𝐠𝐥𝐢𝐚𝐦𝐨 𝐯𝐢𝐯𝐞𝐫𝐯𝐢\, 𝐟𝐞𝐬𝐭𝐞𝐠𝐠𝐢𝐚𝐫𝐯𝐢 𝐞 𝐩𝐫𝐞𝐦𝐢𝐚𝐫𝐯𝐢! Tutti i corsisti di Tuballoswing sono invitati al Gran Finale 2024\, due giorni di stacco totale dal mondo per condividere un’ultima grande emozione prima delle vacanze estive ⁣⁣⁣⁣ 𝐐𝐮𝐚𝐧𝐝𝐨 – Sabato 29 e domenica 30 Giugno⁣⁣⁣⁣ 𝐃𝐨𝐯𝐞 – A 𝘙𝘦𝘯𝘯𝘺𝘓𝘢𝘯𝘥\, l’incredibile versione estiva del Renny\, con 𝐩𝐢𝐬𝐜𝐢𝐧𝐚\, 𝐨𝐩𝐞𝐧 𝐛𝐚𝐫\, 𝐠𝐢𝐨𝐜𝐡𝐢\, 𝐮𝐧 𝐞𝐧𝐨𝐫𝐦𝐞 𝐩𝐚𝐥𝐜𝐨𝐬𝐜𝐞𝐧𝐢𝐜𝐨 𝐞 𝐭𝐚𝐧𝐭𝐞 𝐬𝐨𝐫𝐩𝐫𝐞𝐬𝐞⁣⁣⁣⁣ 𝐎𝐛𝐢𝐞𝐭𝐭𝐢𝐯𝐨 – Trascorrere due giorni indimenticabili tra momenti sociali e rinfrescanti\, cibarie e polibibite\, preparativi\, giochi\, adrenalina e risate! Tra uno svago e l’altro\, daremo gli ultimi ritocchi allo 𝐒𝐇𝐎𝗪 𝐝𝐢 𝐟𝐢𝐧𝐞 𝐚𝐧𝐧𝐨 che andrà in scena la sera di Domenica 30 Giugno⁣⁣⁣⁣ – il palco sarà disponibile per le prove fin da una settimana prima del Gran Finale\, così da arrivare in tutto relax e goliardia allo spettacolo ⁣⁣⁣⁣—————————-⁣⁣⁣⁣“𝐔𝐍𝐎 𝐒𝐏𝐄𝐓𝐓𝐀𝐂𝐎𝐋𝐎 𝐃𝐈 𝐀𝐍𝐍𝐎” è il nome dello Show che porteremo in scena la sera di Domenica 30 Giugno \nUn po’ di contesto…⁣⁣⁣⁣Ogni anno di Tuballoswing è una certezza fatta di tradizioni ed eventi ricorrenti\, ma anche di novità rispetto agli anni precedenti. Una vita emozionante e sempre nuova quella dei tuballerini\, e ormai è tradizione raccontarla con un grande show!⁣⁣Nel 2020 andò in scena lo “Smiling Show”\, il racconto del lockdown di Tuballoswing. ⁣⁣⁣⁣Nel 2023\, è andata in scena la prima edizione di “Uno spettacolo di anno”\, la storia del ritorno alla “normalità” senza interruzioni e restrizioni. ⁣⁣⁣⁣𝐔𝐧 𝐬𝐮𝐜𝐜𝐞𝐬𝐬𝐨 𝐝𝐚 𝟒𝟎𝟎 𝐬𝐩𝐞𝐭𝐭𝐚𝐭𝐨𝐫𝐢\, che a questo giro replicheremo col botto! Lo show che prepareremo emozionerà noi\, che quest’anno di swing l’abbiamo vissuto\, e mostrerà la nostra pazza\, felice\, intensa vita di ballerini a una grande platea di amici e familiari.⁣⁣⁣⁣𝐔𝐧𝐨 𝐬𝐩𝐞𝐭𝐭𝐚𝐜𝐨𝐥𝐨 𝐢𝐧 𝐜𝐮𝐢 𝐬𝐚𝐫𝐞𝐦𝐨 𝐭𝐮𝐭𝐭𝐢 𝐩𝐫𝐨𝐭𝐚𝐠𝐨𝐧𝐢𝐬𝐭𝐢 senza distinzioni\, un palco da condividere con compagni di corso e insegnanti! ⁣⁣⁣⁣𝐋’𝐢𝐧𝐠𝐫𝐞𝐬𝐬𝐨 𝐩𝐞𝐫 𝐚𝐦𝐢𝐜𝐢\, 𝐜𝐮𝐫𝐢𝐨𝐬𝐢\, 𝐚𝐩𝐩𝐚𝐬𝐬𝐢𝐨𝐧𝐚𝐭𝐢 𝐞 𝐩𝐚𝐫𝐞𝐧𝐭𝐢 𝐞‌ 𝐭𝐨𝐭𝐚𝐥𝐦𝐞𝐧𝐭𝐞 𝐥𝐢𝐛𝐞𝐫𝐨 𝐞 𝐆𝐑𝐀𝐓𝐔𝐈𝐓𝐎⁣⁣⁣⁣—————————-⁣⁣⁣⁣𝐏𝐀𝐂𝐊 “𝐑𝐄𝐒𝐈𝐃𝐄𝐍𝐙𝐀” (𝟖𝟎𝐞𝐮):⁣⁣⁣⁣Entra a RennyLand senza portafoglio e senza pensieri. Riceverai un braccialetto che ti darà 𝐥𝐢𝐛𝐞𝐫𝐨 𝐚𝐜𝐜𝐞𝐬𝐬𝐨 𝐚 𝐭𝐮𝐭𝐭𝐢 𝐢 𝐬𝐞𝐫𝐯𝐢𝐳𝐢 (pasti\, piscina\, open bar\, attività in programma). ⁣⁣⁣⁣𝐋’𝐢𝐬𝐜𝐫𝐢𝐳𝐢𝐨𝐧𝐞 𝐢𝐧𝐜𝐥𝐮𝐝𝐞 𝟐 𝐜𝐞𝐧𝐞\, 𝐮𝐧 𝐛𝐫𝐮𝐧𝐜𝐡\, 𝐮𝐧𝐚 𝐬𝐩𝐚𝐠𝐡𝐞𝐭𝐭𝐚𝐭𝐚 𝐝𝐢 𝐦𝐞𝐳𝐳𝐚𝐧𝐨𝐭𝐭𝐞 𝐞 𝐥’𝐨𝐩𝐞𝐧 𝐛𝐚𝐫 𝐧𝐨𝐧 𝐬𝐭𝐨𝐩 (𝐝𝐚𝐥𝐥𝐞 𝟏𝟓 𝐝𝐢 𝐬𝐚𝐛𝐚𝐭𝐨 𝐚𝐥𝐥𝐞 𝟐𝟎 𝐝𝐢 𝐝𝐨𝐦𝐞𝐧𝐢𝐜𝐚)⁣⁣⁣⁣𝐍𝐎𝐍 𝐬𝐚𝐫𝐚̀ 𝐩𝐨𝐬𝐬𝐢𝐛𝐢𝐥𝐞 𝐩𝐚𝐫𝐭𝐞𝐜𝐢𝐩𝐚𝐫𝐞 𝐚𝐭𝐭𝐢𝐯𝐚𝐦𝐞𝐧𝐭𝐞 𝐚𝐥𝐥𝐨 𝐒𝐡𝐨𝐰 𝐬𝐞𝐧𝐳𝐚 𝐥𝐚 𝐩𝐫𝐞𝐬𝐞𝐧𝐳𝐚 𝐚𝐥𝐥𝐚 𝐩𝐫𝐨𝐯𝐚 𝐠𝐞𝐧𝐞𝐫𝐚𝐥𝐞 𝐝𝐞𝐥 𝐒𝐚𝐛𝐚𝐭𝐨 𝐬𝐞𝐫𝐚 (potrà essere concessa l’assenza solo a pochissimi casi eccezionali\, a discrezione degli insegnanti e della direzione)⁣⁣ Il Gran finale è una festa prima che uno show\, un’esperienza da vivere nella sua interezza e non solo in parte\, una bolla in cui rinchiudersi per due giorni per conoscere persone e condividere momenti. ⁣Per questo motivo\, 𝐧𝐨𝐧 𝐬𝐨𝐧𝐨 𝐩𝐫𝐞𝐯𝐢𝐬𝐭𝐢 𝐩𝐚𝐜𝐤 𝐩𝐞𝐫𝐬𝐨𝐧𝐚𝐥𝐢𝐳𝐳𝐚𝐛𝐢𝐥𝐢.⁣⁣⁣𝐂𝐇𝐈𝐔𝐒𝐔𝐑𝐀 𝐏𝐑𝐄 – 𝐑𝐄𝐆𝐈𝐒𝐓𝐑𝐀𝐙𝐈𝐎𝐍𝐄 Mercoledi 15 Maggio⁣⁣⁣⁣𝐏𝐀𝐆𝐀𝐌𝐄𝐍𝐓𝐎 entro Mercoledi 31 Maggio⁣⁣⁣⁣𝐒𝐚𝐛𝐚𝐭𝐨 𝟐𝟗 𝐆𝐢𝐮𝐠𝐧𝐨:⁣⁣⁣⁣15.00 Benvenuti a RennyLand⁣⁣15.30 inizio prove sul palco⁣⁣19.30 cena a buffet⁣⁣21.30 prova generale Show⁣⁣23.00 BIG FINAL PARTY: Consegne onorificenze\, sorprese e divertimento assicurato. Sappiamo l’orario di inizio\, non sappiamo quello di fine.⁣⁣0.00 Spaghettata⁣⁣⁣⁣𝐃𝐨𝐦𝐞𝐧𝐢𝐜𝐚 𝟑𝟎 𝐆𝐢𝐮𝐠𝐧𝐨:⁣⁣12.00 Risveglio e preparazione muscolare con Giulia ⁣⁣12.45 Brunch ⁣⁣14.00 Pennica/free time⁣⁣15.00 Prove autogestite/ solarium e gavettoni⁣⁣17.00 Tropical Dj set\, Pool (si\, ci sarà La piscina) e “Vino Spruzzato” party⁣⁣19.00 Cena a buffet⁣⁣20.00 Meditazione pre show⁣⁣20.45 “Merda merda merda” collettivo⁣⁣21.30 Show “Uno spettacolo di anno” (necessaria prenotazione per il pubblico)⁣⁣⁣⁣—————————-⁣⁣⁣PRENOTAZIONI “RESIDENZA” E PRENOTAZIONE PUBBLICO qui: https://form.jotform.com/…/prenotazione-gran-finale-2024 ⁣⁣⁣RENNY CLUB⁣⁣via Francesco Baracca 1F – Firenze⁣⁣segreteria@tuballoswing.it
URL:https://www.renny.club/evento/uno-spettacolo-di-anno-by-tuballoswing/
LOCATION:Renny Firenze\, via Francesco Baracca 1\, Firenze\, Firenze\, 50127\, Italia
ATTACH;FMTTYPE=image/jpeg:https://www.renny.club/wp-content/uploads/2024/06/GF2024.jpg
END:VEVENT
END:VCALENDAR