BEGIN:VCALENDAR
VERSION:2.0
PRODID:-//Renny - ECPv6.2.3.2//NONSGML v1.0//EN
CALSCALE:GREGORIAN
METHOD:PUBLISH
X-WR-CALNAME:Renny
X-ORIGINAL-URL:https://www.renny.club
X-WR-CALDESC:Eventi per Renny
REFRESH-INTERVAL;VALUE=DURATION:PT1H
X-Robots-Tag:noindex
X-PUBLISHED-TTL:PT1H
BEGIN:VTIMEZONE
TZID:Europe/Rome
BEGIN:DAYLIGHT
TZOFFSETFROM:+0100
TZOFFSETTO:+0200
TZNAME:CEST
DTSTART:20240331T010000
END:DAYLIGHT
BEGIN:STANDARD
TZOFFSETFROM:+0200
TZOFFSETTO:+0100
TZNAME:CET
DTSTART:20241027T010000
END:STANDARD
END:VTIMEZONE
BEGIN:VEVENT
DTSTART;TZID=Europe/Rome:20240916T200000
DTEND;TZID=Europe/Rome:20240926T220000
DTSTAMP:20260419T175722
CREATED:20240819T173026Z
LAST-MODIFIED:20240819T173026Z
UID:19129-1726516800-1727388000@www.renny.club
SUMMARY:Lezioni di prova Tuballoswing
DESCRIPTION:Due settimane per scoprire le NOVITÀ della nuova stagione di Tuballoswing School\, per invitare nuovi amici e curiosi ad addentrarsi nel magico mondo dello Swing!\nSarà possibile partecipare a LEZIONI di prova GRATUITE di ogni disciplina\, scoprire il RENNY CLUB\, e soddisfare le vostre richieste grazie al DESK INFORMATIVO che sarà pronto a rispondere ad ogni domanda.\n\nImpara a ballare\, socializza e divertiti con noi!\nVieni e provaci..\nTUtti BALLanO SWING\, prenota e potrai farlo anche TU! \nPrenotazione obbligatoria:\n https://form.jotform.com/tuballoswing/prenotazione-lezioni-prova-2024\nLe risposte alle tue domande?\n www.tuballoswing.it/faq\nVuoi scriverci?\nsegreteria@tuballoswing.it\n3492691293 (whatsapp)\nLa segreteria sarà attiva da lunedi 2 Settembre
URL:https://www.renny.club/evento/lezioni-di-prova-tuballoswing-2/
LOCATION:Renny Firenze\, via Francesco Baracca 1\, Firenze\, Firenze\, 50127\, Italia
ATTACH;FMTTYPE=image/png:https://www.renny.club/wp-content/uploads/2024/08/openweeks2024.png
END:VEVENT
BEGIN:VEVENT
DTSTART;TZID=Europe/Rome:20240918T210000
DTEND;TZID=Europe/Rome:20240918T235900
DTSTAMP:20260419T175722
CREATED:20240819T154827Z
LAST-MODIFIED:20240819T154827Z
UID:19123-1726693200-1726703940@www.renny.club
SUMMARY:"Roaring Cats" Live - Festa di Riapertura Tuballoswing
DESCRIPTION:Un appuntamento speciale per festeggiare la riapertura della stagione Tuballoswing\, swingando e socializzando con concerto LIVE dei ROARING CATS!\nUna delle band più promettenti d’Europa per quanto riguarda lo Swing e l’Hot Jazz. La piccola orchestra\, con sede ad Amsterdam\, ha accettato la sfida di dare valore e nuovo significato alle radici del Jazz. Il loro repertorio è costituito da arrangiamenti originali dei migliori brani dei migliori artisti degli anni ’30 e ’40: da Fats Waller a Cab Calloway\, da Duke Ellington a Jimmie Lunceford. Note swell per i ballerini Swing iperattivi e per gli ascoltatori sedentari che bevono.\n\nFormazione:\nSam Ghezzi : vocals\, tenor saxophone\nMo van der Does : clarinet\nCoos Zwagerman : trumpet\nJoan Codina : trombone\nOscar Ployart Wetche : piano\nDavor Stehlik : banjo guitar\nTomek van Leeuwen : upright bass\nJoe Korach : drums\n\nA condire l’atmosfera le polibibite futuriste di Gimmo\, esperienze sensoriali tutte da provare!\n\n“North River Bar\, un piccolo locale a Tribeca\, aveva iniziato a fare serate di ballo il mercoledì. Questo stravagante posticino e il Cat Club erano le uniche due serate di ballo fisse in città a quei tempi\, e noi ci affollavamo tutti lì\, sollevati e felici di poter avere la nostra dose di swing infrasettimanale.”\nCynthia R. Millman”-Frankie Manning Ambasciatore del Lindy Hop\n\n*INGRESSO GRATUITO riservato agli studenti Tuballoswing con abbonamento 2024/2025 attivo\n**CONTRIBUTO DI 5€ per i non iscritti a Tuballoswing e Tessera Renny Club/CSI obbligatoria
URL:https://www.renny.club/evento/roaring-cats-live-festa-di-riapertura-tuballoswing/
LOCATION:Renny Firenze\, via Francesco Baracca 1\, Firenze\, Firenze\, 50127\, Italia
ATTACH;FMTTYPE=image/jpeg:https://www.renny.club/wp-content/uploads/2024/08/Roaring-Cats-2024.jpg
END:VEVENT
BEGIN:VEVENT
DTSTART;TZID=Europe/Rome:20240921T210000
DTEND;TZID=Europe/Rome:20240922T020000
DTSTAMP:20260419T175722
CREATED:20240902T161953Z
LAST-MODIFIED:20240902T161953Z
UID:19205-1726952400-1726970400@www.renny.club
SUMMARY:Grande Inaugurazione Milonga Renny
DESCRIPTION:A cura dell’associazione PABLO TANGO FIRENZE\n\n \n\nInaugurazione Milonga Renny\n\nStage e Show di Cesira Miceli e Pablo Tegli\n\nDj Giò Ercoli
URL:https://www.renny.club/evento/grande-inaugurazione-milonga-renny/
LOCATION:Renny Firenze\, via Francesco Baracca 1\, Firenze\, Firenze\, 50127\, Italia
ATTACH;FMTTYPE=image/jpeg:https://www.renny.club/wp-content/uploads/2022/05/Tango-Renny.jpeg
END:VEVENT
END:VCALENDAR