BEGIN:VCALENDAR
VERSION:2.0
PRODID:-//Renny - ECPv6.2.3.2//NONSGML v1.0//EN
CALSCALE:GREGORIAN
METHOD:PUBLISH
X-WR-CALNAME:Renny
X-ORIGINAL-URL:https://www.renny.club
X-WR-CALDESC:Eventi per Renny
REFRESH-INTERVAL;VALUE=DURATION:PT1H
X-Robots-Tag:noindex
X-PUBLISHED-TTL:PT1H
BEGIN:VTIMEZONE
TZID:Europe/Rome
BEGIN:DAYLIGHT
TZOFFSETFROM:+0100
TZOFFSETTO:+0200
TZNAME:CEST
DTSTART:20210328T010000
END:DAYLIGHT
BEGIN:STANDARD
TZOFFSETFROM:+0200
TZOFFSETTO:+0100
TZNAME:CET
DTSTART:20211031T010000
END:STANDARD
END:VTIMEZONE
BEGIN:VEVENT
DTSTART;TZID=Europe/Rome:20210912T210000
DTEND;TZID=Europe/Rome:20210912T233000
DTSTAMP:20260420T200946
CREATED:20210827T175110Z
LAST-MODIFIED:20210827T175110Z
UID:14222-1631480400-1631489400@www.renny.club
SUMMARY:JAM SESSION
DESCRIPTION:Domenica ore 21.00\n\n– “ViaBaraccaN1” versione JAM SESSION –\n\ncon musicisti e artisti che\, senza programmazione\, ma spinti dalla propria improvvisazione daranno vita a performance live uniche e irripetibili!\n\nOspite speciale: Franco Santarnecchi\n**INGRESSO e Consumazioni solo per i soci\nNon sei tesserato? Puoi farlo comodamente online su \n#civediamoalrenny\n#rennysummertime
URL:https://www.renny.club/evento/jam-session-2/2021-09-12/
LOCATION:Renny Firenze\, via Francesco Baracca 1\, Firenze\, Firenze\, 50127\, Italia
END:VEVENT
END:VCALENDAR