BEGIN:VCALENDAR
VERSION:2.0
PRODID:-//Renny - ECPv6.2.3.2//NONSGML v1.0//EN
CALSCALE:GREGORIAN
METHOD:PUBLISH
X-ORIGINAL-URL:https://www.renny.club
X-WR-CALDESC:Eventi per Renny
REFRESH-INTERVAL;VALUE=DURATION:PT1H
X-Robots-Tag:noindex
X-PUBLISHED-TTL:PT1H
BEGIN:VTIMEZONE
TZID:Europe/Rome
BEGIN:DAYLIGHT
TZOFFSETFROM:+0100
TZOFFSETTO:+0200
TZNAME:CEST
DTSTART:20210328T010000
END:DAYLIGHT
BEGIN:STANDARD
TZOFFSETFROM:+0200
TZOFFSETTO:+0100
TZNAME:CET
DTSTART:20211031T010000
END:STANDARD
BEGIN:DAYLIGHT
TZOFFSETFROM:+0100
TZOFFSETTO:+0200
TZNAME:CEST
DTSTART:20220327T010000
END:DAYLIGHT
BEGIN:STANDARD
TZOFFSETFROM:+0200
TZOFFSETTO:+0100
TZNAME:CET
DTSTART:20221030T010000
END:STANDARD
END:VTIMEZONE
BEGIN:VEVENT
DTSTART;TZID=Europe/Rome:20210328T170000
DTEND;TZID=Europe/Rome:20210328T180000
DTSTAMP:20260419T144115
CREATED:20210311T233530Z
LAST-MODIFIED:20210312T223233Z
UID:13629-1616950800-1616954400@www.renny.club
SUMMARY:Festa della Toscana
DESCRIPTION:Nell’ambito delle celebrazioni della 🅕🅔🅢🅣🅐 🅓🅔🅛🅛🅐 🅣🅞🅢🅒🅐🅝🅐 proporrò una serie di 3 appuntamenti per ripercorrere la nascita del 𝒎𝒐𝒗𝒊𝒎𝒆𝒏𝒕𝒐 𝒂𝒓𝒕𝒊𝒔𝒕𝒊𝒄𝒐-𝒄𝒖𝒍𝒕𝒖𝒓𝒂𝒍𝒆 𝑹𝒆𝒏𝒂𝒊𝒔𝒔𝒂𝒏𝒄𝒆 nell’America degli anni ’20.\n\nNel 1786\, il Granducato di Toscana fu il primo stato al mondo ad 𝒂𝒃𝒐𝒍𝒊𝒓𝒆 𝒍𝒂 𝒑𝒆𝒏𝒂 𝒅𝒊 𝒎𝒐𝒓𝒕𝒆 e ad avviare una importante strada per la conquista di diritti umani\, di libertà ed uguaglianza\, di pace e di giustizia\n\n𝑳𝒂 𝒎𝒖𝒔𝒊𝒄𝒂\, 𝒍𝒂 𝒅𝒂𝒏𝒛𝒂\, 𝒍𝒂 𝒄𝒖𝒍𝒕𝒖𝒓𝒂 𝒔𝒐𝒏𝒐 𝒇𝒂𝒕𝒕𝒐𝒓𝒊 𝒅𝒊 𝒆𝒎𝒂𝒏𝒄𝒊𝒑𝒂𝒛𝒊𝒐𝒏𝒆 𝒆 𝒑𝒓𝒐𝒈𝒓𝒆𝒔𝒔𝒐 𝒖𝒎𝒂𝒏𝒐 𝒆 𝒄𝒊𝒗𝒊𝒍𝒆\n\n#FestadellaToscana
URL:https://www.renny.club/evento/festa-della-toscana/2021-03-28/
LOCATION:Via Francesco Baracca 1F\, FIRENZE\, FI\, 50127\, Italia
ATTACH;FMTTYPE=image/png:https://www.renny.club/wp-content/uploads/2021/03/FdT_020.png
END:VEVENT
BEGIN:VEVENT
DTSTART;TZID=Europe/Rome:20221026T220000
DTEND;TZID=Europe/Rome:20221026T235900
DTSTAMP:20260419T144115
CREATED:20221003T124821Z
LAST-MODIFIED:20221101T104106Z
UID:15278-1666821600-1666828740@www.renny.club
SUMMARY:Swing Social Dance
DESCRIPTION:Il consueto\, unico e imperdibile appuntamento Swing del Mercoledì a Firenze\nL’appuntamento storico atteso da tutti i ballerini di Swing in città\, un sabato travestito da infrasettimanale!\nUn appuntamento per spezzare la settimana swingando e socializzando\nTanta musica\, giochi\, gare\, e ini ziative a cura del Team Tuballo!\nA condire l’atmosfera le polibibite futuriste di Gimmo\, esperienze sensoriali tutte da provare!\n————————————-\n“North River Bar\, un piccolo locale a Tribeca\, aveva iniziato a fare serate di ballo il mercoledì. Questo stravagante posticino e il Cat Club erano le uniche due serate di ballo fisse in città a quei tempi\, e noi ci affollavamo tutti lì\, sollevati e felici di poter avere la nostra dose di swing infrasettimanale.”\nCynthia R. Millman”-Frankie Manning Ambasciatore del Lindy Hop\n————————————-\nNEWS\nProgramma musicale:\n– Il 1° Mercoledì del mese saranno ospiti diversi Dj della scena Swing italiana\n– Il 2° Mercoledi del mese la consolle sarà del nostro Resident Dj Red Moon\n– Il 3° Mercoledì del mese diggei set a cura del team insegnanti Tuballoswing che a ruotare si sfideranno con varietà e originalità\n– 4° Mercoledi del mese spazio ai Diggei Emergenti!\nVuoi uno stimolo per la tua cultura e ricerca musicale? sei appassionato di musica e vuoi sperimentare la tua dote da dj? Prova a tenere la pista piena di ballerini! Proponiti!!!\n*INGRESSO GRATUITO riservato agli studenti Tuballoswing con abbonamento attivo\nCONTRIBUTO DI 5eu per i non iscritti a Tuballoswing e Tessera Renny Club/CSI obbligatoria\nVoglio tesserarmi ORA: https://form.jotform.com/212312089724351\n#civediamoalrenny #swingcommunity #swingfirenze #tuballoswing
URL:https://www.renny.club/evento/swing-social-dance-6/2022-10-26/
LOCATION:Via Francesco Baracca 1F\, FIRENZE\, FI\, 50127\, Italia
ATTACH;FMTTYPE=image/jpeg:https://www.renny.club/wp-content/uploads/2022/09/swing-social.jpg
END:VEVENT
BEGIN:VEVENT
DTSTART;TZID=Europe/Rome:20221029T213000
DTEND;TZID=Europe/Rome:20221029T233000
DTSTAMP:20260419T144115
CREATED:20221015T162049Z
LAST-MODIFIED:20221022T215637Z
UID:15404-1667079000-1667086200@www.renny.club
SUMMARY:MONOLOGHI NIGHT @RennyClub
DESCRIPTION:DOMENICA 29 OTTOBRE 2022\nore 21.30\n“MONOLOGHI NIGHT”\nA cura di Fabrizio Pinzauti\n——————————–\nQuattro attori\, tra cui i vincitori e i finalisti del primo contest italiano di monologhi cortissimi appena terminato e Matteo Cesca\, un grandissimo della stand up comedy italiana\, già protagonista a Colorado e Zelig off\, racconteranno in un intreccio di monologhi brillanti\, delle sofferenze e delle gioie legate all’amore.\n——————————–\nApertura porte ore 21.15\nInizio spettacolo ore 21.30\nPrenota qui\nhttps://billetto.it/e/monologue-night-biglietti-734427
URL:https://www.renny.club/evento/monologhi-night-rennyclub/
LOCATION:Via Francesco Baracca 1F\, FIRENZE\, FI\, 50127\, Italia
ATTACH;FMTTYPE=image/jpeg:https://www.renny.club/wp-content/uploads/2022/10/monologhi-291022.jpg
END:VEVENT
BEGIN:VEVENT
DTSTART;TZID=Europe/Rome:20221030T173000
DTEND;TZID=Europe/Rome:20221030T203000
DTSTAMP:20260419T144115
CREATED:20221003T125334Z
LAST-MODIFIED:20221023T125950Z
UID:15283-1667151000-1667161800@www.renny.club
SUMMARY:BALBOA al @RENNY con LIVE!
DESCRIPTION:Swing Mood in collaborazione con Tuballoswing al @Renny!\nDa Ottobre 2022 corsi e Social di Balboa!\nLIVELLO OPEN\n17.30-19.00\nBAL SOCIAL\n19.00-20.30\nDate:\n9-30 Ottobre\n13-27 Novembre\n11 Dicembre\nSei principiante? Prenota qui:\n\nHai già fatto corso di Balboa e vuoi provare il corso intermedi? Scrivi una mail a segreteria@renny.club\n———————————\nBalboa è un ballo Swing nato in California tra gli anni ’20 e ’30\, che prende il nome dalla penisola di Balboa\, a Newport beach\, dove è stato inventato.\nSi dice che sia nato dall’esigenza di ballare in sale da ballo affollatissime\, da qui i caratteristici passi piccoli e veloci e l’estremo contatto fisico tra i due ballerini.\nE’ un ballo di coppia che si basa sulla connessione completa fra i due corpi con molti cambi di peso\, spesso invisibili agli spettatori\, con passi minimi e sincronizzati tra uomo e donna.\nHa la caratteristica di poter essere ballato in poco tempo su tutte le velocità e si esegue in un abbraccio stretto\, ruotando con eleganza. Nonostante però il contatto fisico molto esteso la libertà di movimento non è affatto limitata. Esistono infatti due stili: il Pure Bal\, ballato quasi completamente in posizione chiusa\, e il Bal Swing\, che comporta variazioni e aperture simili al Lindy Hop.\n———————————-\nLOLLO&ALICE\nAmano il Balboa perché è:\n-ELEGANZA DEL MOVIMENTO:\nSemplicità e cura del dettaglio per ottenere la giusta fluidità;\n-PICCOLO\nSi può ballare anche in uno spazio molto ridotto;\n-ASCOLTO\nIn alcuni momenti\, se vuoi\, puoi ballare ad occhi chiusi e connetterti alla musica e al partner in maniera più profonda;\n-ENERGIA\nAltre volte puoi invece scatenarti viaggiando a tutta velocità come nelle Montagne Russe!\n-RITMO\n…Più veloce è\, più ganzo è!!!
URL:https://www.renny.club/evento/15283/
LOCATION:Via Francesco Baracca 1F\, FIRENZE\, FI\, 50127\, Italia
ATTACH;FMTTYPE=image/jpeg:https://www.renny.club/wp-content/uploads/2022/10/balboa.jpg
END:VEVENT
BEGIN:VEVENT
DTSTART;TZID=Europe/Rome:20221112T213000
DTEND;TZID=Europe/Rome:20221113T010000
DTSTAMP:20260419T144115
CREATED:20220919T141850Z
LAST-MODIFIED:20221101T102309Z
UID:15180-1668288600-1668301200@www.renny.club
SUMMARY:HOT SWING CLUB XX
DESCRIPTION:ⒽⓄⓉ▬ⓈⓌⒾⓃⒼ▬ⒻⒾⓇⒺⓃⓏⒺ\nOgni secondo Sabato del mese Renny diventa HOT!\n\nSecondo appuntamento\n❖SABATO 12 NOVEMBRE 2022❖\n\nHot Swing Club\, il primo grande evento Swing arrivato a Firenze quando iniziava a riaffiorare il Boogie Woogie e arrivava per la prima volta il Lindy Hop.\nUn evento che voleva e che vuole unire tutti i ballerini della città\nUn evento che spazia dagli anni 20 agli anni 50\, con una sala dedicata a più generi musicali.\nLive Music\, grandi ospiti\, performance\, una sala dedicata ai Lindy Hoppers\, una per gli amanti degli anni 50.\nNon mancheranno postazioni trucco e parrucco\, barbieri\, vintage market e tanti personaggi che per pochi cent vi lucideranno le scarpe o cercheranno di vendervi fiammiferi rievocando la più autentica atmosfera della Swing Era.\n✦ ✦ ✦ ✦ ✦ ✦ ✦ ✦ ✦ ✦ ✦ ✦ ✦ ✦ ✦\nLIVE: “Henzapoppin’s Choo-Choo Train”\nEnza Henzapoppin Cortese\, voce\nGiuseppe Ricciardo\, sax\nMarco Cortese\, chitarra\nRenato Gattone\, contrabbasso\nAlfredo Romeo\, batteria\nDIGGEI SET: Dj Swingphony & Shorty Nick\nJAZZ OPEN CLASS: Monika Grabowska\nMC: Giuà!\nBARBER SHOP: Hair Studio Russo\nVINTAGE MARKET:\nMilleLire\nHocus Pocus\nSCIUSCIA’: Versarino\nLE POLIBIBITE FUTURISTE DEL RENNY\n✦ ✦ ✦ ✦ ✦ ✦ ✦ ✦ ✦ ✦ ✦ ✦ ✦ ✦ ✦\nDRESS CODE (RIGOROSO) RETRO’ ANNI 20/30/40/50\n——————————————————-\nPROGRAMMA SERATA:\n21.15 Apertura porte\n21.30 Lezione Jazz Open con Monika Grabowska\n22.15 Inizio Live Henzapoppin’s Choo-Choo Train\n23.30 Outfit Contest\n\nContributo d’ingresso all’attività culturale 15€ (con drink incluso)\nIngresso riservato ai soci RENNY 2022\n(Costo tessera 5€)
URL:https://www.renny.club/evento/hot-swing-club-2/
LOCATION:Via Francesco Baracca 1F\, FIRENZE\, FI\, 50127\, Italia
ATTACH;FMTTYPE=image/jpeg:https://www.renny.club/wp-content/uploads/2022/09/HSC.jpg
END:VEVENT
END:VCALENDAR